BEGIN:VCALENDAR
VERSION:2.0
PRODID:-//SABA NJ - ECPv6.15.19//NONSGML v1.0//EN
CALSCALE:GREGORIAN
METHOD:PUBLISH
X-WR-CALNAME:SABA NJ
X-ORIGINAL-URL:https://sabanj.org
X-WR-CALDESC:Events for SABA NJ
REFRESH-INTERVAL;VALUE=DURATION:PT1H
X-Robots-Tag:noindex
X-PUBLISHED-TTL:PT1H
BEGIN:VTIMEZONE
TZID:UTC
BEGIN:STANDARD
TZOFFSETFROM:+0000
TZOFFSETTO:+0000
TZNAME:UTC
DTSTART:20200101T000000
END:STANDARD
END:VTIMEZONE
BEGIN:VEVENT
DTSTART;TZID=UTC:20210525T180000
DTEND;TZID=UTC:20210525T190000
DTSTAMP:20260419T183112
CREATED:20250724T080619Z
LAST-MODIFIED:20250724T080619Z
UID:3657-1621965600-1621969200@sabanj.org
SUMMARY:Virtual Self-Defense Class – SABA-NJ
DESCRIPTION:Join us on May 25th at 6:00pm for virtual self-defense class designed to help empower women. Join Us Now\n 
URL:https://sabanj.org/event/virtual-self-defense-class-saba-nj/
LOCATION:Virtual  Meet\, NJ\, United States
CATEGORIES:Events
ATTACH;FMTTYPE=image/png:https://sabanj.org/wp-content/uploads/2025/07/Gray-Chic-Self-Defense1.png
END:VEVENT
BEGIN:VEVENT
DTSTART;TZID=UTC:20210526T180000
DTEND;TZID=UTC:20210526T190000
DTSTAMP:20260419T183112
CREATED:20250724T080336Z
LAST-MODIFIED:20250724T080336Z
UID:3654-1622052000-1622055600@sabanj.org
SUMMARY:CLE SEMINAR – SABA-NJ
DESCRIPTION:Restructuring the Bankruptcy Bar: Strategies to Increase Diversity in the Bankruptcy/Insolvency\n 
URL:https://sabanj.org/event/cle-seminar-saba-nj/
LOCATION:Virtual  Meet\, NJ\, United States
CATEGORIES:Events
ATTACH;FMTTYPE=image/jpeg:https://sabanj.org/wp-content/uploads/2025/07/SABA-NJ0256.jpg
END:VEVENT
END:VCALENDAR