BEGIN:VCALENDAR
VERSION:2.0
PRODID:-//SABA NJ - ECPv6.15.19//NONSGML v1.0//EN
CALSCALE:GREGORIAN
METHOD:PUBLISH
X-WR-CALNAME:SABA NJ
X-ORIGINAL-URL:https://sabanj.org
X-WR-CALDESC:Events for SABA NJ
REFRESH-INTERVAL;VALUE=DURATION:PT1H
X-Robots-Tag:noindex
X-PUBLISHED-TTL:PT1H
BEGIN:VTIMEZONE
TZID:UTC
BEGIN:STANDARD
TZOFFSETFROM:+0000
TZOFFSETTO:+0000
TZNAME:UTC
DTSTART:20200101T000000
END:STANDARD
END:VTIMEZONE
BEGIN:VEVENT
DTSTART;TZID=UTC:20210422T173000
DTEND;TZID=UTC:20210422T190000
DTSTAMP:20260419T201424
CREATED:20250724T081818Z
LAST-MODIFIED:20250724T081818Z
UID:3663-1619112600-1619118000@sabanj.org
SUMMARY:Dos and Don’ts of Starting Your Own Firm: SABA-NJ
DESCRIPTION:Dos and Don’ts of Starting Your Own Firm: SABA-NJ An Essential Guide
URL:https://sabanj.org/event/dos-and-donts-of-starting-your-own-firm-saba-nj/
LOCATION:Virtual  Meet\, NJ\, United States
CATEGORIES:Events
ATTACH;FMTTYPE=image/jpeg:https://sabanj.org/wp-content/uploads/2025/07/Solo-Small-Firm-Panel-Flyer-page-00165-1.jpg
END:VEVENT
END:VCALENDAR