BEGIN:VCALENDAR
VERSION:2.0
PRODID:-//SABA NJ - ECPv6.15.19//NONSGML v1.0//EN
CALSCALE:GREGORIAN
METHOD:PUBLISH
X-WR-CALNAME:SABA NJ
X-ORIGINAL-URL:https://sabanj.org
X-WR-CALDESC:Events for SABA NJ
REFRESH-INTERVAL;VALUE=DURATION:PT1H
X-Robots-Tag:noindex
X-PUBLISHED-TTL:PT1H
BEGIN:VTIMEZONE
TZID:UTC
BEGIN:STANDARD
TZOFFSETFROM:+0000
TZOFFSETTO:+0000
TZNAME:UTC
DTSTART:20190101T000000
END:STANDARD
END:VTIMEZONE
BEGIN:VEVENT
DTSTART;TZID=UTC:20201021T180000
DTEND;TZID=UTC:20201021T193000
DTSTAMP:20260420T070351
CREATED:20250724T112102Z
LAST-MODIFIED:20250724T112102Z
UID:3779-1603303200-1603308600@sabanj.org
SUMMARY:The Election Ground Game A Call to Action for Attorneys of Color
DESCRIPTION:Join us on for an important discussion on what we can do during the upcoming election. Panelists feature SABA-NJ trustee Rajiv Parikh.
URL:https://sabanj.org/event/the-election-ground-game-a-call-to-action-for-attorneys-of-color/
CATEGORIES:Statements
ATTACH;FMTTYPE=image/jpeg:https://sabanj.org/wp-content/uploads/2025/07/The-Election-Ground-Game-A-Call-to-Action-for-Attorneys-of-Color11.jpeg
END:VEVENT
END:VCALENDAR