BEGIN:VCALENDAR
VERSION:2.0
PRODID:-//SABA NJ - ECPv6.15.19//NONSGML v1.0//EN
CALSCALE:GREGORIAN
METHOD:PUBLISH
X-ORIGINAL-URL:https://sabanj.org
X-WR-CALDESC:Events for SABA NJ
REFRESH-INTERVAL;VALUE=DURATION:PT1H
X-Robots-Tag:noindex
X-PUBLISHED-TTL:PT1H
BEGIN:VTIMEZONE
TZID:UTC
BEGIN:STANDARD
TZOFFSETFROM:+0000
TZOFFSETTO:+0000
TZNAME:UTC
DTSTART:20190101T000000
END:STANDARD
END:VTIMEZONE
BEGIN:VEVENT
DTSTART;VALUE=DATE:20200525
DTEND;VALUE=DATE:20200526
DTSTAMP:20260421T170001
CREATED:20250725T050346Z
LAST-MODIFIED:20250725T050346Z
UID:3886-1590364800-1590451199@sabanj.org
SUMMARY:SABA-NJ Statement on the Death of George Floyd
DESCRIPTION:SABA-NJ Statement on the Death of George Floyd
URL:https://sabanj.org/event/saba-nj-statement-on-the-death-of-george-floyd/
CATEGORIES:Statements
ATTACH;FMTTYPE=image/jpeg:https://sabanj.org/wp-content/uploads/2025/07/SABA-NJ-Statement-on-the-Death-of-George-Floyd15.jpeg
END:VEVENT
BEGIN:VEVENT
DTSTART;TZID=UTC:20200528T180000
DTEND;TZID=UTC:20200528T193000
DTSTAMP:20260421T170001
CREATED:20250725T051041Z
LAST-MODIFIED:20250725T051041Z
UID:3891-1590688800-1590694200@sabanj.org
SUMMARY:Top Technology and Time Saving Tips
DESCRIPTION:Join SABA-NJ next week on a pertinent webinar regarding top technology and time saving tips in the age of working remotely! RSVP today!
URL:https://sabanj.org/event/top-technology-and-time-saving-tips/
CATEGORIES:Events
ATTACH;FMTTYPE=image/jpeg:https://sabanj.org/wp-content/uploads/2025/07/Top-Technology-and-Time-Saving-Tips12.jpeg
END:VEVENT
END:VCALENDAR