BEGIN:VCALENDAR
VERSION:2.0
PRODID:-//SABA NJ - ECPv6.15.19//NONSGML v1.0//EN
CALSCALE:GREGORIAN
METHOD:PUBLISH
X-WR-CALNAME:SABA NJ
X-ORIGINAL-URL:https://sabanj.org
X-WR-CALDESC:Events for SABA NJ
REFRESH-INTERVAL;VALUE=DURATION:PT1H
X-Robots-Tag:noindex
X-PUBLISHED-TTL:PT1H
BEGIN:VTIMEZONE
TZID:UTC
BEGIN:STANDARD
TZOFFSETFROM:+0000
TZOFFSETTO:+0000
TZNAME:UTC
DTSTART:20190101T000000
END:STANDARD
END:VTIMEZONE
BEGIN:VEVENT
DTSTART;TZID=UTC:20200403T150000
DTEND;TZID=UTC:20200403T163000
DTSTAMP:20260421T184301
CREATED:20250725T060231Z
LAST-MODIFIED:20250725T060300Z
UID:3918-1585926000-1585931400@sabanj.org
SUMMARY:Webinar in the Impact of COVID-19
DESCRIPTION:Webinar in the Impact of COVID-19 on major practice areas featuring presentations by former officer and longtime supporter Parag Patel\, Trustee Raj Parikh and President Rahil Darbar. \n    webinar-in-the-impact-of-covid-04webinar-in-the-impact-of-covid-03webinar-in-the-impact-of-covid-02webinar-in-the-impact-of-covid-01
URL:https://sabanj.org/event/webinar-in-the-impact-of-covid-19/
CATEGORIES:Events
END:VEVENT
BEGIN:VEVENT
DTSTART;TZID=UTC:20200409T173000
DTEND;TZID=UTC:20200409T190000
DTSTAMP:20260421T184301
CREATED:20250725T055158Z
LAST-MODIFIED:20250725T055208Z
UID:3912-1586453400-1586458800@sabanj.org
SUMMARY:THE SOUTH ASIAN BAR ASSOCIATION OF NEW JERSEY
DESCRIPTION:Virtual Happy Hour Thursday April 9th 5:30pm – 7pm
URL:https://sabanj.org/event/the-south-asian-bar-association-of-new-jersey/
LOCATION:Virtual  Meet\, NJ\, United States
CATEGORIES:Events
ATTACH;FMTTYPE=image/jpeg:https://sabanj.org/wp-content/uploads/2025/07/image0-e158628490047225.jpeg
END:VEVENT
END:VCALENDAR