BEGIN:VCALENDAR
VERSION:2.0
PRODID:-//SABA NJ - ECPv6.15.19//NONSGML v1.0//EN
CALSCALE:GREGORIAN
METHOD:PUBLISH
X-ORIGINAL-URL:https://sabanj.org
X-WR-CALDESC:Events for SABA NJ
REFRESH-INTERVAL;VALUE=DURATION:PT1H
X-Robots-Tag:noindex
X-PUBLISHED-TTL:PT1H
BEGIN:VTIMEZONE
TZID:UTC
BEGIN:STANDARD
TZOFFSETFROM:+0000
TZOFFSETTO:+0000
TZNAME:UTC
DTSTART:20180101T000000
END:STANDARD
END:VTIMEZONE
BEGIN:VEVENT
DTSTART;VALUE=DATE:20191107
DTEND;VALUE=DATE:20191108
DTSTAMP:20260422T031821
CREATED:20250724T075241Z
LAST-MODIFIED:20250724T075241Z
UID:3651-1573084800-1573171199@sabanj.org
SUMMARY:Panel Discussion – Save the Date
DESCRIPTION:Panel Discussion – Save the Date\nNovember 7\, 2019
URL:https://sabanj.org/event/panel-discussion-save-the-date/
CATEGORIES:Events
ATTACH;FMTTYPE=image/webp:https://sabanj.org/wp-content/uploads/2025/07/Panel-Discussion-Save-the-Date125.webp
END:VEVENT
BEGIN:VEVENT
DTSTART;TZID=UTC:20191114T183000
DTEND;TZID=UTC:20191114T213000
DTSTAMP:20260422T031821
CREATED:20250724T104649Z
LAST-MODIFIED:20250724T104957Z
UID:3758-1573756200-1573767000@sabanj.org
SUMMARY:Highlights of Diwali Dinner-2019
DESCRIPTION:APALA-NJ & SABA-NJ – Diwali Dinner\n    apala-nj-saba-nj-diwali-dinne-05apala-nj-saba-nj-diwali-dinne-03apala-nj-saba-nj-diwali-dinne-02apala-nj-saba-nj-diwali-dinne-01apala-nj-saba-nj-diwali-dinne-04apala-nj-saba-nj-diwali-dinne-06\n 
URL:https://sabanj.org/event/highlights-of-diwali-dinner-2019/
LOCATION:Spice Rack\, 3079 NJ-27\, Frsnklin Park\, United States
CATEGORIES:Events
ATTACH;FMTTYPE=image/webp:https://sabanj.org/wp-content/uploads/2025/07/apala-nj-saba-nj-diwali-dinner12-68820e0d7d0b8.webp
END:VEVENT
END:VCALENDAR