BEGIN:VCALENDAR
VERSION:2.0
PRODID:-//SABA NJ - ECPv6.15.19//NONSGML v1.0//EN
CALSCALE:GREGORIAN
METHOD:PUBLISH
X-WR-CALNAME:SABA NJ
X-ORIGINAL-URL:https://sabanj.org
X-WR-CALDESC:Events for SABA NJ
REFRESH-INTERVAL;VALUE=DURATION:PT1H
X-Robots-Tag:noindex
X-PUBLISHED-TTL:PT1H
BEGIN:VTIMEZONE
TZID:UTC
BEGIN:STANDARD
TZOFFSETFROM:+0000
TZOFFSETTO:+0000
TZNAME:UTC
DTSTART:20180101T000000
END:STANDARD
END:VTIMEZONE
BEGIN:VEVENT
DTSTART;VALUE=DATE:20190901
DTEND;VALUE=DATE:20190902
DTSTAMP:20260422T063016
CREATED:20250725T051921Z
LAST-MODIFIED:20250725T120430Z
UID:3894-1567296000-1567382399@sabanj.org
SUMMARY:SABA-NJ thanks those on the frontlines of battling the COVID-19 pandemic
DESCRIPTION:SABA-NJ is committed to support the South Asian community. South Asians are a core component of the essential workers\, first responders and healthcare providers on the frontlines battling the COVID-19 pandemic. Here are their stories: \nToday we feature Dr. Janish Kothari\, an internal medicine physician at New York Presbyterian Brooklyn Methodist Hopsital. Dr. Kothari shares his experience in treating COVID-19 patients in Brooklyn\, NY\, one of the country’s hardest hit areas. \n  \n \nToday we feature Ruta Patel\, PA-C and Ami Patel\, CA-Y2\, Department of Anesthesiology of Jersey City Medical Center. Though Hoboken and Jersey City have taken early and aggressive measures to battle COVID-19\, area hospitals are hard hit by the virus and we thank all of the healthcare professionals for their continued efforts. \n \nToday we feature Dr. Anjali Mitra\, Dr. Nadia Aurora (back right)\, and Dr. Komal Rice (back left)\, residents at Robert Wood Johnson University Hospital who are working tirelessly not only to battle COVID-19 but also to keep spirits up in the hospital! \n \n 
URL:https://sabanj.org/event/saba-nj-thanks-those-on-the-frontlines-of-battling-the-covid-19-pandemic/
CATEGORIES:Events
END:VEVENT
BEGIN:VEVENT
DTSTART;VALUE=DATE:20190918
DTEND;VALUE=DATE:20190919
DTSTAMP:20260422T063016
CREATED:20250724T071312Z
LAST-MODIFIED:20250724T071407Z
UID:3635-1568764800-1568851199@sabanj.org
SUMMARY:SABA-NJ’s Annual Gala Highlights
DESCRIPTION:SABA-NJ’s Annual Gala Highlights2018_gala_sponsorship_packet_final26
URL:https://sabanj.org/event/saba-njs-annual-gala-highlights/
CATEGORIES:Events
ATTACH;FMTTYPE=image/jpeg:https://sabanj.org/wp-content/uploads/2025/07/Gala-2019-Flyer25.jpg
END:VEVENT
END:VCALENDAR