BEGIN:VCALENDAR
VERSION:2.0
PRODID:-//SABA NJ - ECPv6.15.19//NONSGML v1.0//EN
CALSCALE:GREGORIAN
METHOD:PUBLISH
X-WR-CALNAME:SABA NJ
X-ORIGINAL-URL:https://sabanj.org
X-WR-CALDESC:Events for SABA NJ
REFRESH-INTERVAL;VALUE=DURATION:PT1H
X-Robots-Tag:noindex
X-PUBLISHED-TTL:PT1H
BEGIN:VTIMEZONE
TZID:UTC
BEGIN:STANDARD
TZOFFSETFROM:+0000
TZOFFSETTO:+0000
TZNAME:UTC
DTSTART:20180101T000000
END:STANDARD
END:VTIMEZONE
BEGIN:VEVENT
DTSTART;VALUE=DATE:20190817
DTEND;VALUE=DATE:20190818
DTSTAMP:20260422T115522
CREATED:20250724T103733Z
LAST-MODIFIED:20250724T103843Z
UID:3756-1566000000-1566086399@sabanj.org
SUMMARY:SABA-NJ Annual Summer BBQ on August 17\, 2019
DESCRIPTION:SABA-NJ Annual Summer BBQ on August 17\, 2019    saba-nj-inaugural-mentorship-program-05saba-nj-inaugural-mentorship-program-02saba-nj-inaugural-mentorship-program-01saba-nj-inaugural-mentorship-program-03saba-nj-inaugural-mentorship-program-04
URL:https://sabanj.org/event/saba-nj-annual-summer-bbq-on-august-17-2019/
LOCATION:Bhaveen and Shreena House\, 4 Ballentine Court\, Fleminton\, NJ\, United States
CATEGORIES:Events
ATTACH;FMTTYPE=image/jpeg:https://sabanj.org/wp-content/uploads/2025/07/SABA-NJ-Annual-Summer-BBQ256.jpg
END:VEVENT
BEGIN:VEVENT
DTSTART;VALUE=DATE:20190818
DTEND;VALUE=DATE:20190819
DTSTAMP:20260422T115522
CREATED:20250724T073756Z
LAST-MODIFIED:20250724T103315Z
UID:3639-1566086400-1566172799@sabanj.org
SUMMARY:Highlights From The SABA-NJ’s 6th Annual Gala
DESCRIPTION:On September 18\, 2019\, SABA-NJ hosted its 6th Annual Gala with a keynote address by Neal Katyal\, Esq.\, the former acting Solicitor General of the United States and partner at Hogan Lovells. SABA-NJ presented awards to the Honorable Zahid Quraishi\, Magistrate Judge for the United States District Court of New Jersey\, Shanti Narra\, Esq.\, Freeholder in Middlesex County\, Rippi Karda\, Esq.\, Associate General Counsel at Verizon\, Dr. Sadaf Jaffer\, Mayor of Montgomery Township\, and the law firm Stark & Stark. See some of the highlights below! \nReview the Highlights From The SABA-NJ’s 6th Annual Gala (2019) \n    highlights-from-the-saba-njs-6th-annual-gala-08highlights-from-the-saba-njs-6th-annual-gala-07highlights-from-the-saba-njs-6th-annual-gala-06highlights-from-the-saba-njs-6th-annual-gala-05highlights-from-the-saba-njs-6th-annual-gala-04highlights-from-the-saba-njs-6th-annual-gala-03highlights-from-the-saba-njs-6th-annual-gala-02highlights-from-the-saba-njs-6th-annual-gala-01highlights-from-the-saba-njs-6th-annual-gala-31-6882085de483dhighlights-from-the-saba-njs-6th-annual-gala-29-688208594dd99highlights-from-the-saba-njs-6th-annual-gala-30-68820859c26b8highlights-from-the-saba-njs-6th-annual-gala-28-688208555d3a4highlights-from-the-saba-njs-6th-annual-gala-27-68820854cbe9ahighlights-from-the-saba-njs-6th-annual-gala-24-68820850d4aa7highlights-from-the-saba-njs-6th-annual-gala-25-6882085114998highlights-from-the-saba-njs-6th-annual-gala-22-6882084c021b0highlights-from-the-saba-njs-6th-annual-gala-23-6882084c247f8highlights-from-the-saba-njs-6th-annual-gala-20-688208478e785highlights-from-the-saba-njs-6th-annual-gala-21-68820847580cahighlights-from-the-saba-njs-6th-annual-gala-19-688207cf60480highlights-from-the-saba-njs-6th-annual-gala-18-688207ce3797ahighlights-from-the-saba-njs-6th-annual-gala-17-688207ca0865bhighlights-from-the-saba-njs-6th-annual-gala-16-688207c874711highlights-from-the-saba-njs-6th-annual-gala-15-688207c431c52highlights-from-the-saba-njs-6th-annual-gala-14-688207c26c011highlights-from-the-saba-njs-6th-annual-gala-11-688207bd694a3highlights-from-the-saba-njs-6th-annual-gala-12-688207becf600highlights-from-the-saba-njs-6th-annual-gala-09-688207b8a7892highlights-from-the-saba-njs-6th-annual-gala-10-688207b90d55e
URL:https://sabanj.org/event/highlights-from-the-saba-njs-6th-annual-gala/
CATEGORIES:Events
ATTACH;FMTTYPE=image/webp:https://sabanj.org/wp-content/uploads/2025/07/highlights-from-the-saba-njs-6th-annual-gala-15-688207c431c52.webp
END:VEVENT
END:VCALENDAR