BEGIN:VCALENDAR
VERSION:2.0
PRODID:-//SABA NJ - ECPv6.15.19//NONSGML v1.0//EN
CALSCALE:GREGORIAN
METHOD:PUBLISH
X-ORIGINAL-URL:https://sabanj.org
X-WR-CALDESC:Events for SABA NJ
REFRESH-INTERVAL;VALUE=DURATION:PT1H
X-Robots-Tag:noindex
X-PUBLISHED-TTL:PT1H
BEGIN:VTIMEZONE
TZID:UTC
BEGIN:STANDARD
TZOFFSETFROM:+0000
TZOFFSETTO:+0000
TZNAME:UTC
DTSTART:20200101T000000
END:STANDARD
END:VTIMEZONE
BEGIN:VEVENT
DTSTART;VALUE=DATE:20210330
DTEND;VALUE=DATE:20210331
DTSTAMP:20260419T215128
CREATED:20250724T082637Z
LAST-MODIFIED:20250724T082637Z
UID:3666-1617062400-1617148799@sabanj.org
SUMMARY:Judge Quraishi’s Nomination to District Judge
DESCRIPTION:South Asian Bar Association of New Jersey Is Proud To Congratulate Long Time Member\, The Honorable Zahid N. Quraishi\, On His Historic Nomination As The First Asian And First South Asian Nominated To Be A District Judge In The District Of New Jersey
URL:https://sabanj.org/event/judge-quraishis-nomination-to-district-judge/
LOCATION:Virtual  Meet\, NJ\, United States
CATEGORIES:Statements
ATTACH;FMTTYPE=image/jpeg:https://sabanj.org/wp-content/uploads/2025/07/3.30-Press-Release-11-1.jpg
END:VEVENT
END:VCALENDAR