BEGIN:VCALENDAR
VERSION:2.0
PRODID:-//SABA NJ - ECPv6.15.19//NONSGML v1.0//EN
CALSCALE:GREGORIAN
METHOD:PUBLISH
X-ORIGINAL-URL:https://sabanj.org
X-WR-CALDESC:Events for SABA NJ
REFRESH-INTERVAL;VALUE=DURATION:PT1H
X-Robots-Tag:noindex
X-PUBLISHED-TTL:PT1H
BEGIN:VTIMEZONE
TZID:UTC
BEGIN:STANDARD
TZOFFSETFROM:+0000
TZOFFSETTO:+0000
TZNAME:UTC
DTSTART:20200101T000000
END:STANDARD
END:VTIMEZONE
BEGIN:VEVENT
DTSTART;TZID=UTC:20210211T180000
DTEND;TZID=UTC:20210211T190000
DTSTAMP:20260420T022501
CREATED:20250724T083433Z
LAST-MODIFIED:20250724T083934Z
UID:3670-1613066400-1613070000@sabanj.org
SUMMARY:CLE Seminar\, Cannabis Is Legal\, Now What?
DESCRIPTION:With medical cannabis legalized and adult-use cannabis soon to be legalized in New Jersey\, there is a green rush of interest with all eyes on the Garden State. In order to understand how we got here\, this panel will provide the overview of the medical cannabis program and the “vote yes” initiative for adult-use. The program will also focus on the next steps for the legislative bills and the yet to be formed Cannabis Regulatory Commission (CRC). The evolving legal cannabis industry also brings many opportunities from licensing to ancillary markets to hemp. As this industry takes shape\, the program will also highlight the social justice and criminal reform
URL:https://sabanj.org/event/the-journey-of-success-paved-by-trailblazers/
LOCATION:Virtual  Meet\, NJ\, United States
CATEGORIES:Events
ATTACH;FMTTYPE=image/jpeg:https://sabanj.org/wp-content/uploads/2025/07/Canabis-Flyer-11.jpg
END:VEVENT
BEGIN:VEVENT
DTSTART;TZID=UTC:20210211T180000
DTEND;TZID=UTC:20210211T190000
DTSTAMP:20260420T022501
CREATED:20250724T090152Z
LAST-MODIFIED:20250724T090152Z
UID:3677-1613066400-1613070000@sabanj.org
SUMMARY:2021 SABA-NJ Annual Installation
DESCRIPTION:2021 SABA-NJ Annual Installation You Are Invited! Annual Installation and Swearing-In Ceremony\, January 28\, 2021
URL:https://sabanj.org/event/2021-saba-nj-annual-installation-2/
LOCATION:Virtual  Meet\, NJ\, United States
CATEGORIES:Events
ATTACH;FMTTYPE=image/jpeg:https://sabanj.org/wp-content/uploads/2025/07/Canabis-Flyer-11.jpg
END:VEVENT
END:VCALENDAR