BEGIN:VCALENDAR
VERSION:2.0
PRODID:-//SABA NJ - ECPv6.15.19//NONSGML v1.0//EN
CALSCALE:GREGORIAN
METHOD:PUBLISH
X-WR-CALNAME:SABA NJ
X-ORIGINAL-URL:https://sabanj.org
X-WR-CALDESC:Events for SABA NJ
REFRESH-INTERVAL;VALUE=DURATION:PT1H
X-Robots-Tag:noindex
X-PUBLISHED-TTL:PT1H
BEGIN:VTIMEZONE
TZID:UTC
BEGIN:STANDARD
TZOFFSETFROM:+0000
TZOFFSETTO:+0000
TZNAME:UTC
DTSTART:20190101T000000
END:STANDARD
END:VTIMEZONE
BEGIN:VEVENT
DTSTART;TZID=UTC:20201210T183000
DTEND;TZID=UTC:20201210T203000
DTSTAMP:20260420T065511
CREATED:20250724T092113Z
LAST-MODIFIED:20250724T092811Z
UID:3681-1607625000-1607632200@sabanj.org
SUMMARY:Bring your inner legal beagle to the South Asian Bar Association of NJ (SABA-NJ)
DESCRIPTION:Bring your inner legal beagle to the South Asian Bar Association of NJ (SABA-NJ) and South Asian Bar Association of New York trivia holiday event on December 10th!
URL:https://sabanj.org/event/bring-your-inner-legal-beagle-to-the-south-asian-bar-association-of-nj-saba-nj/
LOCATION:Virtual  Meet\, NJ\, United States
CATEGORIES:Events
ATTACH;FMTTYPE=image/png:https://sabanj.org/wp-content/uploads/2025/07/image012.png
END:VEVENT
END:VCALENDAR