BEGIN:VCALENDAR
VERSION:2.0
PRODID:-//SABA NJ - ECPv6.15.19//NONSGML v1.0//EN
CALSCALE:GREGORIAN
METHOD:PUBLISH
X-WR-CALNAME:SABA NJ
X-ORIGINAL-URL:https://sabanj.org
X-WR-CALDESC:Events for SABA NJ
REFRESH-INTERVAL;VALUE=DURATION:PT1H
X-Robots-Tag:noindex
X-PUBLISHED-TTL:PT1H
BEGIN:VTIMEZONE
TZID:UTC
BEGIN:STANDARD
TZOFFSETFROM:+0000
TZOFFSETTO:+0000
TZNAME:UTC
DTSTART:20190101T000000
END:STANDARD
END:VTIMEZONE
BEGIN:VEVENT
DTSTART;TZID=UTC:20201112T180000
DTEND;TZID=UTC:20201112T193000
DTSTAMP:20260420T070401
CREATED:20250724T111021Z
LAST-MODIFIED:20250724T111021Z
UID:3774-1605204000-1605209400@sabanj.org
SUMMARY:Virtual Diwali Celebration with APALA-NJ
DESCRIPTION:Join SABA-NJ and Apala NJ this festive season for our virtual Diwali celebration!
URL:https://sabanj.org/event/virtual-diwali-celebration-with-apala-nj/
CATEGORIES:Events
ATTACH;FMTTYPE=image/jpeg:https://sabanj.org/wp-content/uploads/2025/07/image0256.jpeg
END:VEVENT
BEGIN:VEVENT
DTSTART;TZID=UTC:20201022T160000
DTEND;TZID=UTC:20201022T160000
DTSTAMP:20260420T070401
CREATED:20250724T112730Z
LAST-MODIFIED:20250724T112730Z
UID:3794-1603382400-1603382400@sabanj.org
SUMMARY:Join SABA-NJ Together with Ameriprise – Financial Planning and Strategies for Attorneys
DESCRIPTION:Join SABA-NJ together with Ameriprise in October 22\, 2020 for an important CLE on financial planning and finance strategies for attorneys. Earn up to 1.2 CLE credits and a wealth of knowledge!
URL:https://sabanj.org/event/join-saba-nj-together-with-ameriprise-financial-planning-and-strategies-for-attorneys/
CATEGORIES:Events
ATTACH;FMTTYPE=image/jpeg:https://sabanj.org/wp-content/uploads/2025/07/Join-SABA-NJ-Together-with-Ameriprise12.jpeg
END:VEVENT
END:VCALENDAR