BEGIN:VCALENDAR
VERSION:2.0
PRODID:-//SABA NJ - ECPv6.15.19//NONSGML v1.0//EN
CALSCALE:GREGORIAN
METHOD:PUBLISH
X-ORIGINAL-URL:https://sabanj.org
X-WR-CALDESC:Events for SABA NJ
REFRESH-INTERVAL;VALUE=DURATION:PT1H
X-Robots-Tag:noindex
X-PUBLISHED-TTL:PT1H
BEGIN:VTIMEZONE
TZID:UTC
BEGIN:STANDARD
TZOFFSETFROM:+0000
TZOFFSETTO:+0000
TZNAME:UTC
DTSTART:20190101T000000
END:STANDARD
END:VTIMEZONE
BEGIN:VEVENT
DTSTART;TZID=UTC:20200728T160000
DTEND;TZID=UTC:20200728T170000
DTSTAMP:20260420T131252
CREATED:20250724T114833Z
LAST-MODIFIED:20250724T114833Z
UID:3828-1595952000-1595955600@sabanj.org
SUMMARY:Join SABA-NJ together with the SKN Foundation
DESCRIPTION:Join SABA-NJ together with the SKN Foundation for a presentation on fostering self-advocacy through an understanding of law.
URL:https://sabanj.org/event/join-saba-nj-together-with-the-skn-foundation/
CATEGORIES:Events
ATTACH;FMTTYPE=image/jpeg:https://sabanj.org/wp-content/uploads/2025/07/Join-SABA-NJ-with-the-SKN-Foundation12.jpeg
END:VEVENT
END:VCALENDAR