BEGIN:VCALENDAR
VERSION:2.0
PRODID:-//SABA NJ - ECPv6.15.19//NONSGML v1.0//EN
CALSCALE:GREGORIAN
METHOD:PUBLISH
X-ORIGINAL-URL:https://sabanj.org
X-WR-CALDESC:Events for SABA NJ
REFRESH-INTERVAL;VALUE=DURATION:PT1H
X-Robots-Tag:noindex
X-PUBLISHED-TTL:PT1H
BEGIN:VTIMEZONE
TZID:UTC
BEGIN:STANDARD
TZOFFSETFROM:+0000
TZOFFSETTO:+0000
TZNAME:UTC
DTSTART:20190101T000000
END:STANDARD
END:VTIMEZONE
BEGIN:VEVENT
DTSTART;TZID=UTC:20200714T000000
DTEND;TZID=UTC:20200714T130000
DTSTAMP:20260421T164122
CREATED:20250724T115341Z
LAST-MODIFIED:20250724T115341Z
UID:3839-1594684800-1594731600@sabanj.org
SUMMARY:SABA-NJ Promoting Diversity – Mentoring Beyond Happy Hour
DESCRIPTION:Join SABA-NJ for a panel on diversity and mentoring\, featuring President-Elect Bhaveen R. Jani\, Esq. RSVP to info@mercerbar.com
URL:https://sabanj.org/event/saba-nj-promoting-diversity-mentoring-beyond-happy-hour/
LOCATION:Virtual  Meet\, NJ\, United States
CATEGORIES:Events
ATTACH;FMTTYPE=image/jpeg:https://sabanj.org/wp-content/uploads/2025/07/SABA-NJ-Promoting-Diversity-Mentoring-Beyond-Happy-Hour1.jpg
END:VEVENT
BEGIN:VEVENT
DTSTART;TZID=UTC:20200726T210000
DTEND;TZID=UTC:20200726T210000
DTSTAMP:20260421T164122
CREATED:20250724T202829Z
LAST-MODIFIED:20250724T202829Z
UID:3880-1595797200-1595797200@sabanj.org
SUMMARY:SABA-NJ together with the Criminal Law Section of the New Jersey State Bar Association presents
DESCRIPTION:SABA-NJ together with the Criminal Law Section of the New Jersey State Bar Association presents
URL:https://sabanj.org/event/saba-nj-together-with-the-criminal-law-section-of-the-new-jersey-state-bar-association-presents/
LOCATION:Virtual  Meet\, NJ\, United States
CATEGORIES:Events
ATTACH;FMTTYPE=image/jpeg:https://sabanj.org/wp-content/uploads/2025/07/SABA-NJ-together-with-the-Criminal-Law-Section-of-the-New-Jersey01-1.jpeg
END:VEVENT
END:VCALENDAR