BEGIN:VCALENDAR
VERSION:2.0
PRODID:-//SABA NJ - ECPv6.15.19//NONSGML v1.0//EN
CALSCALE:GREGORIAN
METHOD:PUBLISH
X-ORIGINAL-URL:https://sabanj.org
X-WR-CALDESC:Events for SABA NJ
REFRESH-INTERVAL;VALUE=DURATION:PT1H
X-Robots-Tag:noindex
X-PUBLISHED-TTL:PT1H
BEGIN:VTIMEZONE
TZID:UTC
BEGIN:STANDARD
TZOFFSETFROM:+0000
TZOFFSETTO:+0000
TZNAME:UTC
DTSTART:20190101T000000
END:STANDARD
END:VTIMEZONE
BEGIN:VEVENT
DTSTART;VALUE=DATE:20200225
DTEND;VALUE=DATE:20200226
DTSTAMP:20260421T220557
CREATED:20250724T115739Z
LAST-MODIFIED:20250724T115739Z
UID:3845-1582588800-1582675199@sabanj.org
SUMMARY:Labor Law Panel Moderated by our Executive Liaison Director Rippi Karda\, Esq.
DESCRIPTION:On February 25\, SABA-NJ together with the Punjabi Chamber of Commerce hosted Labor Law Basics for business owners and community members. The event was moderated by our Executive Liaison Director\, Rippi Karda and President Rahil Darbar addressed the audience. \n    labor-law-panel-moderated-by-our-executive-liaison-01-68821f2bd6358labor-law-panel-moderated-by-our-executive-liaison-02-68821f2b9a362labor-law-panel-moderated-by-our-executive-liaison-03-68821f2e82567labor-law-panel-moderated-by-our-executive-liaison-04-68821f2ea262c
URL:https://sabanj.org/event/labor-law-panel-moderated/
CATEGORIES:Events
ATTACH;FMTTYPE=image/webp:https://sabanj.org/wp-content/uploads/2025/07/labor-law-panel-moderated-by-our-executive-liaison-03-68821f2e82567.webp
END:VEVENT
END:VCALENDAR