BEGIN:VCALENDAR
VERSION:2.0
PRODID:-//SABA NJ - ECPv6.15.19//NONSGML v1.0//EN
CALSCALE:GREGORIAN
METHOD:PUBLISH
X-ORIGINAL-URL:https://sabanj.org
X-WR-CALDESC:Events for SABA NJ
REFRESH-INTERVAL;VALUE=DURATION:PT1H
X-Robots-Tag:noindex
X-PUBLISHED-TTL:PT1H
BEGIN:VTIMEZONE
TZID:UTC
BEGIN:STANDARD
TZOFFSETFROM:+0000
TZOFFSETTO:+0000
TZNAME:UTC
DTSTART:20190101T000000
END:STANDARD
END:VTIMEZONE
BEGIN:VEVENT
DTSTART;VALUE=DATE:20200101
DTEND;VALUE=DATE:20200102
DTSTAMP:20260422T014049
CREATED:20250724T111927Z
LAST-MODIFIED:20250724T113026Z
UID:3783-1577836800-1577923199@sabanj.org
SUMMARY:SABA-NJ Board and Members-2020
DESCRIPTION:SABA-NJ Board and Members\n    saba-nj-board-and-members-06saba-nj-board-and-members-05saba-nj-board-and-members-02saba-nj-board-and-members-03saba-nj-board-and-members-04saba-nj-board-and-members-01
URL:https://sabanj.org/event/saba-nj-board-and-members/
CATEGORIES:Events
ATTACH;FMTTYPE=image/webp:https://sabanj.org/wp-content/uploads/2025/07/saba-nj-board-and-members-02.webp
END:VEVENT
BEGIN:VEVENT
DTSTART;VALUE=DATE:20200101
DTEND;VALUE=DATE:20200102
DTSTAMP:20260422T014050
CREATED:20250724T113302Z
LAST-MODIFIED:20250724T113302Z
UID:3801-1577836800-1577923199@sabanj.org
SUMMARY:SABA-NJ Welcomes the 2020 Board
DESCRIPTION:J \nSABA-NJ Welcomes the 2020 Board
URL:https://sabanj.org/event/saba-nj-welcomes-the-2020-board/
CATEGORIES:Events
ATTACH;FMTTYPE=image/jpeg:https://sabanj.org/wp-content/uploads/2025/07/SABA-NJ-Welcomes-the-2020-Board12.jpg
END:VEVENT
END:VCALENDAR